BEGIN:VCALENDAR
VERSION:2.0
PRODID:-//Tukios.com/
BEGIN:VEVENT
UID:fa64c18d-3986-455d-8169-861276cd9eee@www.faggas.com
DTSTAMP:20260420T045805Z
DTSTART:20260425T161500Z
DTEND:20260425T171500Z
SUMMARY:Burial
DESCRIPTION:
URL:https://www.faggas.com/obituaries/panagiotis-delianidis
LOCATION: 670 Baker Street  West Roxbury MA 02132
GEO:42.2912482;-71.1740878
END:VEVENT
END:VCALENDAR