BEGIN:VCALENDAR
VERSION:2.0
PRODID:-//Tukios.com/
BEGIN:VEVENT
UID:679a7fdd-a146-424f-a0d4-8bb0dad584ca@www.faggas.com
DTSTAMP:20260420T045703Z
DTSTART:20260425T143000Z
DTEND:20260425T153000Z
SUMMARY:Funeral Service
DESCRIPTION:
URL:https://www.faggas.com/obituaries/panagiotis-delianidis
LOCATION:Greek Evangelical Church of Boston 1115 Centre Street  Newton MA 
	02459
GEO:42.3340985;-71.1945234
END:VEVENT
END:VCALENDAR