BEGIN:VCALENDAR
VERSION:2.0
PRODID:-//Tukios.com/
BEGIN:VEVENT
UID:d3eb866c-e12c-4ea5-a35a-c039bd4b4704@www.faggas.com
DTSTAMP:20260420T045623Z
DTSTART:20260425T133000Z
DTEND:20260425T143000Z
SUMMARY:Visitation
DESCRIPTION:
URL:https://www.faggas.com/obituaries/panagiotis-delianidis
LOCATION:Greek Evangelical Church of Boston 1115 Centre Street  Newton MA 
	02459
GEO:42.3340985;-71.1945234
END:VEVENT
END:VCALENDAR