BEGIN:VCALENDAR
VERSION:2.0
PRODID:-//Tukios.com/
BEGIN:VEVENT
UID:b6b37956-6511-4d53-a68e-47891ace6580@www.faggas.com
DTSTAMP:20260425T220556Z
DTSTART:20260429T161500Z
DTEND:20260429T171500Z
SUMMARY:Burial
DESCRIPTION:
URL:https://www.faggas.com/obituaries/margarita-fragakis
LOCATION:The Gardens at Gethsemane Cemetery 670 Baker Sreet  Boston MA 
	02132
GEO:42.2912482;-71.1740878
END:VEVENT
END:VCALENDAR