BEGIN:VCALENDAR
VERSION:2.0
PRODID:-//Tukios.com/
BEGIN:VEVENT
UID:eae452ab-b2c0-423a-82d8-4c27a3c3d56d@www.faggas.com
DTSTAMP:20260425T220935Z
DTSTART:20260429T153000Z
DTEND:20260429T163000Z
SUMMARY:Funeral Service
DESCRIPTION:
URL:https://www.faggas.com/obituaries/margarita-fragakis
LOCATION: 39 Belgrade Avenue  Roslindale MA 02131
GEO:42.2867703;-71.1317625
END:VEVENT
END:VCALENDAR