BEGIN:VCALENDAR
VERSION:2.0
PRODID:-//Tukios.com/
BEGIN:VEVENT
UID:c7cf0135-385e-4d49-8880-486c8605a7b5@www.faggas.com
DTSTAMP:20260425T221320Z
DTSTART:20260429T140000Z
DTEND:20260429T153000Z
SUMMARY:Visitation
DESCRIPTION:
URL:https://www.faggas.com/obituaries/margarita-fragakis
LOCATION: 39 Belgrade Avenue  Roslindale MA 02131
GEO:42.2867703;-71.1317625
END:VEVENT
END:VCALENDAR