BEGIN:VCALENDAR
VERSION:2.0
PRODID:-//Tukios.com/
BEGIN:VEVENT
UID:26c3858e-e7e0-4c0b-82ec-ee396e148792@www.faggas.com
DTSTAMP:20260425T190211Z
DTSTART:20260428T160000Z
DTEND:20260428T170000Z
SUMMARY:Burial
DESCRIPTION:
URL:https://www.faggas.com/obituaries/george-bratsis
LOCATION: 670 Baker Street  West Roxbury MA 02132
GEO:42.2912482;-71.1740878
END:VEVENT
END:VCALENDAR