BEGIN:VCALENDAR
VERSION:2.0
PRODID:-//Tukios.com/
BEGIN:VEVENT
UID:6831c105-82c2-4468-b3bb-16270ee093fd@www.faggas.com
DTSTAMP:20260425T190347Z
DTSTART:20260428T140000Z
DTEND:20260428T150000Z
SUMMARY:Visitation
DESCRIPTION:
URL:https://www.faggas.com/obituaries/george-bratsis
LOCATION: 39 Belgrade Avenue  Roslindale MA 02131
GEO:42.2867703;-71.1317625
END:VEVENT
END:VCALENDAR