BEGIN:VCALENDAR
VERSION:2.0
PRODID:-//Tukios.com/
BEGIN:VEVENT
UID:eeaea114-2d2a-43ee-96ae-8413e2dc807d@www.faggas.com
DTSTAMP:20260425T190059Z
DTSTART:20260428T150000Z
DTEND:20260428T160000Z
SUMMARY:Funeral Service
DESCRIPTION:
URL:https://www.faggas.com/obituaries/george-bratsis
LOCATION: 39 Belgrade Avenue  Roslindale MA 02131
GEO:42.2867703;-71.1317625
END:VEVENT
END:VCALENDAR