BEGIN:VCALENDAR
VERSION:2.0
PRODID:-//Tukios.com/
BEGIN:VEVENT
UID:aa6c5161-d2c3-48da-a254-5932a7deaa50@www.faggas.com
DTSTAMP:20260424T192252Z
DTSTART:20260429T160000Z
DTEND:20260429T170000Z
SUMMARY:Burial
DESCRIPTION:
URL:https://www.faggas.com/obituaries/dorothea-zevitas
LOCATION:Oak Grove Cemetery 230 Playstead Rd  Medford MA 02155
GEO:42.431056;-71.133068
END:VEVENT
END:VCALENDAR