BEGIN:VCALENDAR
VERSION:2.0
PRODID:-//Tukios.com/
BEGIN:VEVENT
UID:d11b694d-364f-49a2-a42c-c422d7ec7437@www.faggas.com
DTSTAMP:20260424T192338Z
DTSTART:20260428T200000Z
DTEND:20260428T230000Z
SUMMARY:Visitation
DESCRIPTION:
URL:https://www.faggas.com/obituaries/dorothea-zevitas
LOCATION:DeVito Funeral Home 1145 Massachusetts Ave  Arlington MA 02476
GEO:42.4227726;-71.1734742
END:VEVENT
END:VCALENDAR