BEGIN:VCALENDAR
VERSION:2.0
PRODID:-//Tukios.com/
BEGIN:VEVENT
UID:3a83c10d-b1d5-47a7-b164-ce2764cf5ab6@www.faggas.com
DTSTAMP:20260424T192138Z
DTSTART:20260429T150000Z
DTEND:20260429T160000Z
SUMMARY:Funeral Service
DESCRIPTION:
URL:https://www.faggas.com/obituaries/dorothea-zevitas
LOCATION:St. Athanasius the Great Greek Orthodox Church 4 Appleton Street 
	 Arlington MA 02476
GEO:42.4232673;-71.1761997
END:VEVENT
END:VCALENDAR